BEGIN:VCALENDAR
VERSION:2.0
PRODID:-//Tukios.com/
BEGIN:VEVENT
UID:600cb653-85ad-4ee3-b546-57c376260179@www.mathewsfuneralhome.com
DTSTAMP:20260424T002251Z
DTSTART:20260501T210000Z
DTEND:20260501T220000Z
SUMMARY:Funeral Service
DESCRIPTION:
URL:https://www.mathewsfuneralhome.com/obituaries/travis-donnelly
LOCATION:Mathews Funeral Home 3206 Gillionville Rd  Albany GA 31721
GEO:31.5851352;-84.2338442
END:VEVENT
END:VCALENDAR