BEGIN:VCALENDAR
VERSION:2.0
PRODID:-//Tukios.com/
BEGIN:VEVENT
UID:373aedf2-0187-4a4e-886d-5dc435db751f@www.mathewsfuneralhome.com
DTSTAMP:20260424T001936Z
DTSTART:20260501T200000Z
DTEND:20260501T210000Z
SUMMARY:Visitation
DESCRIPTION:
URL:https://www.mathewsfuneralhome.com/obituaries/travis-donnelly
LOCATION:Mathews Funeral Home 3206 Gillionville Rd  Albany GA 31721
GEO:31.5851352;-84.2338442
END:VEVENT
END:VCALENDAR