BEGIN:VCALENDAR
VERSION:2.0
PRODID:-//Tukios.com/
BEGIN:VEVENT
UID:895b8276-13c4-4e4e-b7bd-7cf9c4db01ff@www.mathewsfuneralhome.com
DTSTAMP:20260422T154724Z
DTSTART:20260424T140000Z
DTEND:20260424T150000Z
SUMMARY:Visitation
DESCRIPTION:
URL:https://www.mathewsfuneralhome.com/obituaries/randy-henry
LOCATION: 2201 Whispering Pines Rd  Albany GA 31707
GEO:31.6064567;-84.1993864
END:VEVENT
END:VCALENDAR