BEGIN:VCALENDAR
VERSION:2.0
PRODID:-//Tukios.com/
BEGIN:VEVENT
UID:aadf9583-0d69-4b37-a239-3927bbaae165@www.mathewsfuneralhome.com
DTSTAMP:20260422T155237Z
DTSTART:20260424T150000Z
DTEND:20260424T160000Z
SUMMARY:Memorial Service
DESCRIPTION:
URL:https://www.mathewsfuneralhome.com/obituaries/randy-henry
LOCATION: 2201 Whispering Pines Rd  Albany GA 31707
GEO:31.6064567;-84.1993864
END:VEVENT
END:VCALENDAR