BEGIN:VCALENDAR
VERSION:2.0
PRODID:-//Tukios.com/
BEGIN:VEVENT
UID:16ba5378-c57f-43b5-8b1a-2adc7897c87a@www.mathewsfuneralhome.com
DTSTAMP:20260425T153827Z
DTSTART:20260428T150000Z
DTEND:20260428T160000Z
SUMMARY:Graveside Service
DESCRIPTION:
URL:https://www.mathewsfuneralhome.com/obituaries/bennie-davis
LOCATION: GA-32  Leesburg GA 31763
GEO:31.7241649;-84.1721909
END:VEVENT
END:VCALENDAR