BEGIN:VCALENDAR
VERSION:2.0
PRODID:-//Tukios.com/
BEGIN:VEVENT
UID:5754d852-761f-45e5-a640-e300a7e1d01d@www.mathewsfuneralhome.com
DTSTAMP:20260425T153731Z
DTSTART:20260428T133000Z
DTEND:20260428T143000Z
SUMMARY:Visitation
DESCRIPTION:
URL:https://www.mathewsfuneralhome.com/obituaries/bennie-davis
LOCATION: 3206 Gillionville Rd  Albany GA 31721
GEO:31.5851352;-84.2338442
END:VEVENT
END:VCALENDAR